BEGIN:VCALENDAR
VERSION:2.0
PRODID:DPCALENDAR
CALSCALE:GREGORIAN
METHOD:PUBLISH
X-WR-TIMEZONE:UTC
BEGIN:VEVENT
DTSTART:20260423T143000Z
DTEND:20260425T230000Z
UID:ff882cf14b89ffb1bc168ce134ce054f
SUMMARY:Spring Sectional 2026
DTSTAMP:20260107T1627080
DESCRIPTION:\n	Mark your calendar for a fun filled three days of cards, competition and companionship at the 2026 Spring Sectional Tournament Unit 181 -  April 23 to April 25th!\n\n	Celebrate the beginning of the spring season with exciting games, silver points, and great food. Whether you are a life master or a beginner just starting to play in tournaments, there will be something for everyone.\n\n	 \n\n	♠ Stratified Pairs - fair competition for all levels Thursday and Friday\n\n	♥ Novice Pairs - (0-199 MP) - perfect for newer players Thursday and Friday\n\n	♦ Swiss teams - Saturday (includes lunch), Flight A/X, Flight B, and **new** Flight C (0-199) - if you have never played teams, give it a try!\n\n	♣ Complementary breakfast Friday, lunch available for purchase Thursday\n\n	 \n\n	For the flyer with all the times and particulars, click here.\n\n	Remember to contact Mavis Bollman bollman@mymts.net soon to let us know if you are planning to attend.\n\n	If you need a partner, contact Gloria Woloshyn gwoloshyn@mymts.net\n\n	And if you have any questions contact the tournament chair  Barbara Parke barbparke10@gmail.com\n\n	We look forward to seeing you!\n\n	 \n
X-ALT-DESC;FMTTYPE=text/html:<p>	Mark your calendar for a fun filled three days of cards, competition and companionship at the&nbsp;<strong>2026 Spring Sectional Tournament Unit 181 -&nbsp; April 23 to April 25th!</strong></p><p>	Celebrate the beginning of the spring season with exciting games, silver points, and great food. Whether you are a life master or a beginner just starting to play in tournaments, there will be something for everyone.</p><p>	&nbsp;</p><p>	♠&nbsp;<strong>Stratified Pairs</strong>&nbsp;- fair competition for all levels Thursday and Friday</p><p>	♥&nbsp;<strong>Novice Pairs</strong>&nbsp;- (0-199 MP) - perfect for newer players Thursday and Friday</p><p>	♦&nbsp;<strong>Swiss teams</strong>&nbsp;- Saturday (includes lunch), Flight A/X, Flight B, and **new** Flight C (0-199) - if you have never played teams, give it a try!</p><p>	♣&nbsp;<strong>Complementary breakfast&nbsp;</strong>Friday, lunch available for purchase Thursday</p><p>	&nbsp;</p><p>	For the flyer with all the times and particulars,&nbsp;<a href="files/Marsha/Spring_Sectional_2026_flyer.pdf">click here</a>.</p><p>	Remember to contact Mavis Bollman&nbsp;<a href="mailto:bollman@mymts.net">bollman@mymts.net</a>&nbsp;soon to let us know if you are planning to attend.</p><p>	If you need a partner, contact Gloria Woloshyn&nbsp;<a href="mailto:gwoloshyn@mymts.net">gwoloshyn@mymts.net</a></p><p>	And if you have any questions contact the tournament chair&nbsp; Barbara Parke&nbsp;<a href="mailto:barbparke10@gmail.com">barbparke10@gmail.com</a></p><p>	We look forward to seeing you!</p><p>	&nbsp;</p>
LOCATION:2050 Chevrier Boulevard, R3Y0T3 Winnipeg, Manitoba, Canada
GEO:49.8198;-97.1857
X-ACCESS:1
X-MODIFIED:20260107T163042Z
X-HITS:460
X-URL:
X-COLOR:1CFF2B
END:VEVENT
END:VCALENDAR